BEGIN:VCALENDAR
VERSION:2.0
PRODID:-//hradeckydvur - ECPv6.15.20//NONSGML v1.0//EN
CALSCALE:GREGORIAN
METHOD:PUBLISH
X-ORIGINAL-URL:https://hradeckydvur.net
X-WR-CALDESC:Akce na hradeckydvur
REFRESH-INTERVAL;VALUE=DURATION:PT1H
X-Robots-Tag:noindex
X-PUBLISHED-TTL:PT1H
BEGIN:VTIMEZONE
TZID:Europe/Prague
BEGIN:DAYLIGHT
TZOFFSETFROM:+0100
TZOFFSETTO:+0200
TZNAME:CEST
DTSTART:20250330T010000
END:DAYLIGHT
BEGIN:STANDARD
TZOFFSETFROM:+0200
TZOFFSETTO:+0100
TZNAME:CET
DTSTART:20251026T010000
END:STANDARD
BEGIN:DAYLIGHT
TZOFFSETFROM:+0100
TZOFFSETTO:+0200
TZNAME:CEST
DTSTART:20260329T010000
END:DAYLIGHT
BEGIN:STANDARD
TZOFFSETFROM:+0200
TZOFFSETTO:+0100
TZNAME:CET
DTSTART:20261025T010000
END:STANDARD
BEGIN:DAYLIGHT
TZOFFSETFROM:+0100
TZOFFSETTO:+0200
TZNAME:CEST
DTSTART:20270328T010000
END:DAYLIGHT
BEGIN:STANDARD
TZOFFSETFROM:+0200
TZOFFSETTO:+0100
TZNAME:CET
DTSTART:20271031T010000
END:STANDARD
END:VTIMEZONE
BEGIN:VEVENT
DTSTART;VALUE=DATE:20260605
DTEND;VALUE=DATE:20260608
DTSTAMP:20260419T195802
CREATED:20260128T161851Z
LAST-MODIFIED:20260409T101325Z
UID:1150-1780617600-1780876799@hradeckydvur.net
SUMMARY:Májový sněm
DESCRIPTION:Tradiční setkání plné her\, smíchu a dobré společnosti. \n\nTentokrát ve znamení lovecké kratochvíle. Čeká vás odpoledne s luky i kušemi a několik zábavných střeleckých disciplín pod vedením královského lovčího\, rytíře Svatomíra z Němčic.\nLetošní ročník bude záměrně volnější. Nevypisujeme dějové linky. Zvláštní pozornost a prostor chceme věnovat právě lukostřelbě.\nV posledních letech na ni na společných akcích nebylo tolik prostoru a stala se více průvodní aktivitou. Proto bychom ji rádi znovu přirozeně vrátili do života dvora.\nChybět nebude ani menší turnaj s novými disciplínami.\nPlánujeme zařadit i workshopy bezpečné manipulace s dlouhými tyčovými zbraněmi\, které budou v budoucnu vyžadovány.\n\n\nTěšíme se na vás\n\nGPS: 49°13’24.7″N 16°05’26.9″E\n \nCena za dospělou osobu 500\,-\, děti do 15 let tradičně bez poplatku. \nČíslo účtu: 2501449382/2010\nREGISTRAČNÍ FORMULÁŘ \nodkaz na facebook
URL:https://hradeckydvur.net/event/majovy-snem/
CATEGORIES:Naše akce
ATTACH;FMTTYPE=image/jpeg:https://hradeckydvur.net/wp-content/uploads/2026/01/IMG_2630M.jpg
END:VEVENT
END:VCALENDAR